Workbook

Sheet Parametros_Bartlett
A1: Ítem | B1: Coeficiente de puntuación de componente. Método de extracción: análisis de componentes principales. | C1: Media | D1: Desviacion tipica | E1: Z_Min del ítem | F1: Z_Max del ítem | G1: Aporte Min | H1: Aporte Max | I1: Peso Final Vi​ | J1: Ajuste por Media
A2: [Poco interés o placer en hacer las cosas] Durante el último mes, ¿con qué frecuencia ha sentido molestias por los siguientes problemas? | B2: 0.14210454 | C2: 1.9505931 | D2: 0.96750588 | E2: =($B$14-C2)/D2 -> -2.0161046 | F2: =($B$15 - C2) / D2 -> 1.0846517 | G2: =$B2*E2 -> -0.28649761 | H2: =$B2*F2 -> 0.15413393 | I2: =$G$14*(B2/D2) -> 1.075906 | J2: =I2*C2 -> 2.0986549
A3: [Sentirse desanimado/a, deprimido/a o sin esperanzas] Durante el último mes, ¿con qué frecuencia ha sentido molestias por los siguientes problemas? | B3: 0.14887506 | C3: 1.9911768 | D3: 1.0385094 | E3: =($B$14-C3)/D3 -> -1.9173411 | F3: =($B$15 - C3) / D3 -> 0.97141455 | G3: =$B3*E3 -> -0.28544427 | H3: =$B3*F3 -> 0.1446194 | I3: =$G$14*(B3/D3) -> 1.0501021 | J3: =I3*C3 -> 2.0909389
A4: [Problemas para dormir o mantener el sueño o dormir demasiado] Durante el último mes, ¿con qué frecuencia ha sentido molestias por los siguientes problemas? | B4: 0.13894769 | C4: 2.3319214 | D4: 1.1291565 | E4: =($B$14-C4)/D4 -> -2.0651889 | F4: =($B$15 - C4) / D4 -> 0.59166166 | G4: =$B4*E4 -> -0.28695323 | H4: =$B4*F4 -> 0.082210021 | I4: =$G$14*(B4/D4) -> 0.90139931 | J4: =I4*C4 -> 2.1019924
A5: [Sentirse cansado/a o con poca energía] Durante el último mes, ¿con qué frecuencia ha sentido molestias por los siguientes problemas? | B5: 0.1396091 | C5: 2.5762772 | D5: 1.0806979 | E5: =($B$14-C5)/D5 -> -2.3839015 | F5: =($B$15 - C5) / D5 -> 0.39208253 | G5: =$B5*E5 -> -0.33281433 | H5: =$B5*F5 -> 0.054738287 | I5: =$G$14*(B5/D5) -> 0.94630129 | J5: =I5*C5 -> 2.4379345
A6: [Sentir poco apetito o comer en exceso] Durante el último mes, ¿con qué frecuencia ha sentido molestias por los siguientes problemas? | B6: 0.1380203 | C6: 2.2054564 | D6: 1.0906723 | E6: =($B$14-C6)/D6 -> -2.0221073 | F6: =($B$15 - C6) / D6 -> 0.72848976 | G6: =$B6*E6 -> -0.27909186 | H6: =$B6*F6 -> 0.10054638 | I6: =$G$14*(B6/D6) -> 0.92697648 | J6: =I6*C6 -> 2.0444062
A7: [Sentirse mal acerca de sí mismo o tener un sentimiento de fracaso o de abandono propio o de la familia] Durante el último mes, ¿con qué frecuencia ha sentido molestias por los siguientes problemas? | B7: 0.1417874 | C7: 1.8397889 | D7: 1.0448697 | E7: =($B$14-C7)/D7 -> -1.7607831 | F7: =($B$15 - C7) / D7 -> 1.1103883 | G7: =$B7*E7 -> -0.24965686 | H7: =$B7*F7 -> 0.15743906 | I7: =$G$14*(B7/D7) -> 0.9940209 | J7: =I7*C7 -> 1.8287887
A8: [Dificultad para concentrarse en diferentes actividades tales como leer el periódico o ver televisión] Durante el último mes, ¿con qué frecuencia ha sentido molestias por los siguientes problemas? | B8: 0.14187859 | C8: 1.9248029 | D8: 1.0149035 | E8: =($B$14-C8)/D8 -> -1.8965379 | F8: =($B$15 - C8) / D8 -> 1.0594083 | G8: =$B8*E8 -> -0.26907812 | H8: =$B8*F8 -> 0.15030735 | I8: =$G$14*(B8/D8) -> 1.0240287 | J8: =I8*C8 -> 1.9710534
A9: [Moverse o hablar tan despacio que otras personas lo han notado o bien, por el contario, estar tan inquieto/a o intranquilo/a que se mueve mucho más de lo normal] Durante el último mes, ¿con qué frecuencia ha sentido molestias por los siguientes proble | B9: 0.13433904 | C9: 1.6938667 | D9: 0.95864211 | E9: =($B$14-C9)/D9 -> -1.7669438 | F9: =($B$15 - C9) / D9 -> 1.3624827 | G9: =$B9*E9 -> -0.23736953 | H9: =$B9*F9 -> 0.18303462 | I9: =$G$14*(B9/D9) -> 1.0265161 | J9: =I9*C9 -> 1.7387814
A10: [Pensamientos de que sería mejor estar muerto/a o que quisiera lastimarse de alguna manera] Durante el último mes, ¿con qué frecuencia ha sentido molestias por los siguientes problemas? | B10: 0.10793118 | C10: 1.3247266 | D10: 0.74957966 | E10: =($B$14-C10)/D10 -> -1.7672926 | F10: =($B$15 - C10) / D10 -> 2.2349505 | G10: =$B10*E10 -> -0.19074598 | H10: =$B10*F10 -> 0.24122084 | I10: =$G$14*(B10/D10) -> 1.0547491 | J10: =I10*C10 -> 1.3972541
F11: Límite global | G11: =SUM(G2:G10) -> -2.4176518 | H11: =SUM(H2:H10) -> 1.2682499
A12: puntuación mínima teórica | B12: 0 | G12: Mínimo | H12: Máximo
A13: puntuación máxima teórica | B13: 27
A14: Opción de respuesta mínima | B14: 0 | F14: Multiplicador escalar | G14: =$B$13/(H11-G11) -> 7.3252089 | I14: Constante | J14: =($G$14 * G11) - SUM(J2:J10) -> -35.419609
A15: Opción de respuesta mínima | B15: 3
A20: Enfoque de Bartlett (Análisis de Componentes Principales - Continuo)

Sheet Parametros_PCM
A1: Ítem | B1: a_i | C1: b_i1 | D1: b_i2 | E1: b_i3 | F1: Peso0 | G1: Peso1 | H1: Peso2 | I1: Peso3
A2: [Poco interés o placer en hacer las cosas] Durante el último mes, ¿con qué frecuencia ha sentido molestias por los siguientes problemas? | B2: 1 | C2: -0.271 | D2: 0.729 | E2: 1.296 | F2: 0 | G2: =B2*(C2+2) -> 1.729 | H2: =B2*(C2+D2+4) -> 4.458 | I2: =B2 * (C2 + D2 + E2+6) -> 7.754
A3: [Sentirse desanimado/a, deprimido/a o sin esperanzas] Durante el último mes, ¿con qué frecuencia ha sentido molestias por los siguientes problemas? | B3: 1.052 | C3: -0.215 | D3: 0.688 | E3: 1.15 | F3: 0 | G3: =B3*(C3+2) -> 1.87782 | H3: =B3 * (C3 + D3+4) -> 4.705596 | I3: =B3 * (C3 + D3 + E3+6) -> 8.019396
A4: [Problemas para dormir o mantener el sueño o dormir demasiado] Durante el último mes, ¿con qué frecuencia ha sentido molestias por los siguientes problemas? | B4: 0.972 | C4: -0.56 | D4: 0.329 | E4: 0.739 | F4: 0 | G4: =B4*(C4+2) -> 1.39968 | H4: =B4 * (C4 + D4+4) -> 3.663468 | I4: =B4 * (C4 + D4 + E4+6) -> 6.325776
A5: [Sentirse cansado/a o con poca energía] Durante el último mes, ¿con qué frecuencia ha sentido molestias por los siguientes problemas? | B5: 1.019 | C5: -0.977 | D5: 0.145 | E5: 0.565 | F5: 0 | G5: =B5*(C5+2) -> 1.042437 | H5: =B5 * (C5 + D5+4) -> 3.228192 | I5: =B5 * (C5 + D5 + E5+6) -> 5.841927
A6: [Sentir poco apetito o comer en exceso] Durante el último mes, ¿con qué frecuencia ha sentido molestias por los siguientes problemas? | B6: 0.959 | C6: -0.451 | D6: 0.448 | E6: 0.895 | F6: 0 | G6: =B6*(C6+2) -> 1.485491 | H6: =B6 * (C6 + D6+4) -> 3.833123 | I6: =B6 * (C6 + D6 + E6+6) -> 6.609428
A7: [Sentirse mal acerca de sí mismo o tener un sentimiento de fracaso o de abandono propio o de la familia] Durante el último mes, ¿con qué frecuencia ha sentido molestias por los siguientes problemas? | B7: 0.992 | C7: 0.055 | D7: 0.765 | E7: 1.19 | F7: 0 | G7: =B7*(C7+2) -> 2.03856 | H7: =B7 * (C7 + D7+4) -> 4.78144 | I7: =B7 * (C7 + D7 + E7+6) -> 7.94592
A8: [Dificultad para concentrarse en diferentes actividades tales como leer el periódico o ver televisión] Durante el último mes, ¿con qué frecuencia ha sentido molestias por los siguientes problemas? | B8: 0.98 | C8: -0.167 | D8: 0.718 | E8: 1.193 | F8: 0 | G8: =B8*(C8+2) -> 1.79634 | H8: =B8 * (C8 + D8+4) -> 4.45998 | I8: =B8 * (C8 + D8 + E8+6) -> 7.58912
A9: [Moverse o hablar tan despacio que otras personas lo han notado o bien, por el contario, estar tan inquieto/a o intranquilo/a que se mueve mucho más de lo normal] Durante el último mes, ¿con qué frecuencia ha sentido molestias por los siguientes proble | B9: 0.949 | C9: 0.207 | D9: 0.937 | E9: 1.451 | F9: 0 | G9: =B9*(C9+2) -> 2.094443 | H9: =B9 * (C9 + D9+4) -> 4.881656 | I9: =B9 * (C9 + D9 + E9+6) -> 8.156655
A10: [Pensamientos de que sería mejor estar muerto/a o que quisiera lastimarse de alguna manera] Durante el último mes, ¿con qué frecuencia ha sentido molestias por los siguientes problemas? | B10: 0.871 | C10: 0.885 | D10: 1.463 | E10: 1.753 | F10: 0 | G10: =B10*C10 -> 0.770835 | H10: =B10 * (C10 + D10) -> 2.045108 | I10: =B10 * (C10 + D10 + E10) -> 3.571971
H11: Techo Latente Absoluto: | I11: =SUM(I2:I10) -> 61.814193

Sheet Respuestas
A1: Ítem | B1: Respuestas [números naturales de 0 a 3] | C1: Puntuación Barttlet | D1: Puntuación Ponderada PCM
A2: [Poco interés o placer en hacer las cosas] Durante las últimas dos semanas, ¿con qué frecuencia ha sentido molestias por los siguientes problemas? | B2: 1 | C2: =B2*Parametros_Bartlett!$I2 -> 1.075906 | D2: =IF(B2=0, Parametros_PCM!$F2, IF(B2=1, Parametros_PCM!$G2, IF(B2=2, Parametros_PCM!$H2, Parametros_PCM!$I2))) -> 1.729
A3: [Sentirse desanimado/a, deprimido/a o sin esperanzas] Durante las últimas dos semanas, ¿con qué frecuencia ha sentido molestias por los siguientes problemas? | B3: 1 | C3: =B3*Parametros_Bartlett!$I3 -> 1.0501021 | D3: =IF(B3=0, Parametros_PCM!$F3, IF(B3=1, Parametros_PCM!$G3, IF(B3=2, Parametros_PCM!$H3, Parametros_PCM!$I3))) -> 1.87782
A4: [Problemas para dormir o mantener el sueño o dormir demasiado] Durante las últimas dos semanas, ¿con qué frecuencia ha sentido molestias por los siguientes problemas? | B4: 1 | C4: =B4*Parametros_Bartlett!$I4 -> 0.90139931 | D4: =IF(B4=0, Parametros_PCM!$F4, IF(B4=1, Parametros_PCM!$G4, IF(B4=2, Parametros_PCM!$H4, Parametros_PCM!$I4))) -> 1.39968
A5: [Sentirse cansado/a o con poca energía] Durante las últimas dos semanas, ¿con qué frecuencia ha sentido molestias por los siguientes problemas? | B5: 1 | C5: =B5*Parametros_Bartlett!$I5 -> 0.94630129 | D5: =IF(B5=0, Parametros_PCM!$F5, IF(B5=1, Parametros_PCM!$G5, IF(B5=2, Parametros_PCM!$H5, Parametros_PCM!$I5))) -> 1.042437
A6: [Sentir poco apetito o comer en exceso] Durante las últimas dos semanas, ¿con qué frecuencia ha sentido molestias por los siguientes problemas? | B6: 1 | C6: =B6*Parametros_Bartlett!$I6 -> 0.92697648 | D6: =IF(B6=0, Parametros_PCM!$F6, IF(B6=1, Parametros_PCM!$G6, IF(B6=2, Parametros_PCM!$H6, Parametros_PCM!$I6))) -> 1.485491
A7: [Sentirse mal acerca de sí mismo o tener un sentimiento de fracaso o de abandono propio o de la familia] Durante las últimas dos semanas, ¿con qué frecuencia ha sentido molestias por los siguientes problemas? | B7: 0 | C7: =B7*Parametros_Bartlett!$I7 -> 0 | D7: =IF(B7=0, Parametros_PCM!$F7, IF(B7=1, Parametros_PCM!$G7, IF(B7=2, Parametros_PCM!$H7, Parametros_PCM!$I7))) -> 0
A8: [Dificultad para concentrarse en diferentes actividades tales como leer el periódico o ver televisión] Durante las últimas dos semanas, ¿con qué frecuencia ha sentido molestias por los siguientes problemas? | B8: 0 | C8: =B8*Parametros_Bartlett!$I8 -> 0 | D8: =IF(B8=0, Parametros_PCM!$F8, IF(B8=1, Parametros_PCM!$G8, IF(B8=2, Parametros_PCM!$H8, Parametros_PCM!$I8))) -> 0
A9: [Moverse o hablar tan despacio que otras personas lo han notado o bien, por el contario, estar tan inquieto/a o intranquilo/a que se mueve mucho más de lo normal] Durante las últimas dos semanas, ¿con qué frecuencia ha sentido molestias por los siguientes proble | B9: 0 | C9: =B9*Parametros_Bartlett!$I9 -> 0 | D9: =IF(B9=0, Parametros_PCM!$F9, IF(B9=1, Parametros_PCM!$G9, IF(B9=2, Parametros_PCM!$H9, Parametros_PCM!$I9))) -> 0
A10: [Pensamientos de que sería mejor estar muerto/a o que quisiera lastimarse de alguna manera] Durante las últimas dos semanas, ¿con qué frecuencia ha sentido molestias por los siguientes problemas? | B10: 0 | C10: =B10*Parametros_Bartlett!$I10 -> 0 | D10: =IF(B10=0, Parametros_PCM!$F10, IF(B10=1, Parametros_PCM!$G10, IF(B10=2, Parametros_PCM!$H10, Parametros_PCM!$I10))) -> 0
A11: Si usted tuvo molestias por alguno de los problemas mencionados, ¿cuánta dificultad le causaron estos problemas para hacer su rtabajo, ocuparse de las tareas del hogar o relacionarse con otras personas?] | B11: 0 | C11: Barttlet | D11: PCM | E11: Diagnóstico Clínico
B12: Score | C12: =SUM(C2:C10) -> 4.9006852 | D12: =(SUM(D2:D10) / Parametros_PCM!$I$11) * 27 -> 3.2909846 | E12: =IF(AND(OR(B2>=1, B3>=1), COUNTIF(B2:B10, ">0")>=5, B11>=1), "Cumple Criterio Clínico", "No Cumple Criterio") -> No Cumple Criterio
